BEGIN:VCALENDAR
VERSION:2.0
PRODID:-//ANWEB//NONSTOP KINO//EN
CALSCALE:GREGORIAN
BEGIN:VEVENT
DTSTART:20260426T090000Z
DTEND:20260426T113000Z
UID:69e9705ac371a
DTSTAMP:20260422T230530Z
LOCATION:Leokino, https://www.leokino.at/
DESCRIPTION:Wendelien van Oldenborgh (*1962 in Rotterdam\, lebt und arbeitet in Berlin und Wien) entwickelt Arbeiten\, in denen sie das Medium...
URL;VALUE=URI:https://www.leokino.at/
SUMMARY:Innsbruck International: Wendelien van Oldenborgh
END:VEVENT
END:VCALENDAR