BEGIN:VCALENDAR
VERSION:2.0
PRODID:-//ANWEB//NONSTOP KINO//EN
CALSCALE:GREGORIAN
BEGIN:VEVENT
DTSTART:20260427T160000Z
DTEND:20260427T172000Z
UID:69e97097bc68e
DTSTAMP:20260422T230631Z
LOCATION:Leokino, https://www.leokino.at/
DESCRIPTION:Clemens von Wedemeyer (*1974 in Göttingen\, lebt und arbeitet in Berlin) entwickelt Filme und Medieninstallationen im Spannungsfeld von Realität und...
URL;VALUE=URI:https://www.leokino.at/
SUMMARY:Innsbruck International: Clemens von Wedemayer
END:VEVENT
END:VCALENDAR