BEGIN:VCALENDAR
VERSION:2.0
PRODID:-//ANWEB//NONSTOP KINO//EN
CALSCALE:GREGORIAN
BEGIN:VEVENT
DTSTART:20260427T144000Z
DTEND:20260427T165000Z
UID:69eb92619dceb
DTSTAMP:20260424T135513Z
LOCATION:Cinematograph, https://www.leokino.at/
DESCRIPTION:Ein geheimnisvolles Wesen entdeckt in naher Zukunft eine Welt ohne Menschen und macht sich daran\, die Ursache für das Verschwinden...
URL;VALUE=URI:https://www.leokino.at/
SUMMARY:Hungrig
END:VEVENT
END:VCALENDAR