BEGIN:VCALENDAR
VERSION:2.0
PRODID:-//ANWEB//NONSTOP KINO//EN
CALSCALE:GREGORIAN
BEGIN:VEVENT
DTSTART:20260524T130000Z
DTEND:20260524T150000Z
UID:69e87658f181d
DTSTAMP:20260422T051848Z
LOCATION:Filmcasino, https://filmcasino.at/
DESCRIPTION:
URL;VALUE=URI:https://filmcasino.at/
SUMMARY:All my Sons - Theatre Live
END:VEVENT
END:VCALENDAR