BEGIN:VCALENDAR
VERSION:2.0
PRODID:-//ANWEB//NONSTOP KINO//EN
CALSCALE:GREGORIAN
BEGIN:VEVENT
DTSTART:20260421T173000Z
DTEND:20260421T202000Z
UID:69e6de0ac6c47
DTSTAMP:20260421T001642Z
LOCATION:Actors Studio, https://cineplexx.at/cinemas/Actors-Studio
DESCRIPTION:Mit 20 wird Joachim unerwartet an der renommierten Schauspielschule in München angenommen und zieht in die Villa zu seinen Großeltern:...
URL;VALUE=URI:https://cineplexx.at/cinemas/Actors-Studio
SUMMARY:Ach\, diese Lücke\, diese entsetzliche Lücke
END:VEVENT
END:VCALENDAR