BEGIN:VCALENDAR
VERSION:2.0
PRODID:-//ANWEB//NONSTOP KINO//EN
CALSCALE:GREGORIAN
BEGIN:VEVENT
DTSTART:20260422T180000Z
DTEND:20260422T202000Z
UID:69e545a166c11
DTSTAMP:20260419T191409Z
LOCATION:Geidorf Kunstkino, https://www.cineplexx.at/cinemas/Geidorf-Kunstkino
DESCRIPTION:Colin (Harry Melling) führt ein zurückgezogenes Leben\, bis er eines Tages Ray (Alexander Skarsgård) begegnet\, dem mysteriösen Anführer eines queeren...
URL;VALUE=URI:https://www.cineplexx.at/cinemas/Geidorf-Kunstkino
SUMMARY:Pillion
END:VEVENT
END:VCALENDAR