BEGIN:VCALENDAR
VERSION:2.0
PRODID:-//ANWEB//NONSTOP KINO//EN
CALSCALE:GREGORIAN
BEGIN:VEVENT
DTSTART:20260422T140000Z
DTEND:20260422T165000Z
UID:69e6df310dd1f
DTSTAMP:20260421T002137Z
LOCATION:CineCenter, https://www.cinecenter.at/
DESCRIPTION:Mit 20 wird Joachim unerwartet an der renommierten Schauspielschule in München angenommen und zieht in die Villa zu seinen Großeltern:...
URL;VALUE=URI:https://www.cinecenter.at/
SUMMARY:Ach\, diese Lücke\, diese entsetzliche Lücke
END:VEVENT
END:VCALENDAR