BEGIN:VCALENDAR
VERSION:2.0
PRODID:-//ANWEB//NONSTOP KINO//EN
CALSCALE:GREGORIAN
BEGIN:VEVENT
DTSTART:20260422T133000Z
DTEND:20260422T165000Z
UID:69e8f87a72907
DTSTAMP:20260422T143402Z
LOCATION:De France, https://www.votivkino.at/
DESCRIPTION:Als ihr erbitterter Erzfeind nach 16 Jahren wieder auftaucht\, schließt sich eine Gruppe ehemaliger Revolutionäre erneut zusammen\, um die Tochter...
URL;VALUE=URI:https://www.votivkino.at/
SUMMARY:One Battle After Another
END:VEVENT
END:VCALENDAR