BEGIN:VCALENDAR
VERSION:2.0
PRODID:-//ANWEB//NONSTOP KINO//EN
CALSCALE:GREGORIAN
BEGIN:VEVENT
DTSTART:20260422T124500Z
DTEND:20260422T153500Z
UID:69e6df2b8dd38
DTSTAMP:20260421T002131Z
LOCATION:Votiv Kino, https://www.votivkino.at/
DESCRIPTION:Mit 20 wird Joachim unerwartet an der renommierten Schauspielschule in München angenommen und zieht in die Villa zu seinen Großeltern:...
URL;VALUE=URI:https://www.votivkino.at/
SUMMARY:Ach\, diese Lücke\, diese entsetzliche Lücke
END:VEVENT
END:VCALENDAR