BEGIN:VCALENDAR
VERSION:2.0
PRODID:-//ANWEB//NONSTOP KINO//EN
CALSCALE:GREGORIAN
BEGIN:VEVENT
DTSTART:20260423T143000Z
DTEND:20260423T165000Z
UID:69e5dedca91d2
DTSTAMP:20260420T060756Z
LOCATION:Votiv Kino, https://www.votivkino.at/
DESCRIPTION:Richard Linklaters mitreißende Hommage an ein ikonisches Werk der Filmgeschichte war ein Publikums- und Kritikerliebling der Internationalen Filmfestspiele in Cannes...
URL;VALUE=URI:https://www.votivkino.at/
SUMMARY:Nouvelle Vague
END:VEVENT
END:VCALENDAR