BEGIN:VCALENDAR
VERSION:2.0
PRODID:-//ANWEB//NONSTOP KINO//EN
CALSCALE:GREGORIAN
BEGIN:VEVENT
DTSTART:20260420T124500Z
DTEND:20260420T151500Z
UID:69e56e37a7f77
DTSTAMP:20260419T220719Z
LOCATION:Votiv Kino, https://www.votivkino.at/
DESCRIPTION:Die Schwestern Nora und Agnes treffen ihren entfremdeten Vater wieder – den charismatischen Gustav\, einst ein gefeierter Regisseur\, der der...
URL;VALUE=URI:https://www.votivkino.at/
SUMMARY:Sentimental Value
END:VEVENT
END:VCALENDAR