BEGIN:VCALENDAR
VERSION:2.0
PRODID:-//ANWEB//NONSTOP KINO//EN
CALSCALE:GREGORIAN
BEGIN:VEVENT
DTSTART:20260421T180000Z
DTEND:20260421T211000Z
UID:69e524e7a468d
DTSTAMP:20260419T165431Z
LOCATION:Moviemento, https://moviemento.at/
DESCRIPTION:Brasilien 1977: Während der ausgelassenen Karnevalswoche kehrt Marcelo (Wagner Moura)\, ein Mann Mitte vierzig\, von São Paulo in die Küstenstadt...
URL;VALUE=URI:https://moviemento.at/
SUMMARY:The Secret Agent
END:VEVENT
END:VCALENDAR