BEGIN:VCALENDAR
VERSION:2.0
PRODID:-//ANWEB//NONSTOP KINO//EN
CALSCALE:GREGORIAN
BEGIN:VEVENT
DTSTART:20260421T174500Z
DTEND:20260421T203500Z
UID:69e6de8f8f644
DTSTAMP:20260421T001855Z
LOCATION:Stadtkino Villach, https://cineplexx.at/cinemas/Stadtkino-Villach
DESCRIPTION:Mit 20 wird Joachim unerwartet an der renommierten Schauspielschule in München angenommen und zieht in die Villa zu seinen Großeltern:...
URL;VALUE=URI:https://cineplexx.at/cinemas/Stadtkino-Villach
SUMMARY:Ach\, diese Lücke\, diese entsetzliche Lücke
END:VEVENT
END:VCALENDAR