BEGIN:VCALENDAR
VERSION:2.0
PRODID:-//ANWEB//NONSTOP KINO//EN
CALSCALE:GREGORIAN
BEGIN:VEVENT
DTSTART:20260420T180000Z
DTEND:20260420T202000Z
UID:69e5de8188747
DTSTAMP:20260420T060625Z
LOCATION:Stadtkino Villach, https://cineplexx.at/cinemas/Stadtkino-Villach
DESCRIPTION:Richard Linklaters mitreißende Hommage an ein ikonisches Werk der Filmgeschichte war ein Publikums- und Kritikerliebling der Internationalen Filmfestspiele in Cannes...
URL;VALUE=URI:https://cineplexx.at/cinemas/Stadtkino-Villach
SUMMARY:Nouvelle Vague
END:VEVENT
END:VCALENDAR