BEGIN:VCALENDAR
VERSION:2.0
PRODID:-//ANWEB//NONSTOP KINO//EN
CALSCALE:GREGORIAN
BEGIN:VEVENT
DTSTART:20260421T181500Z
DTEND:20260421T203500Z
UID:69e5ddfe8704e
DTSTAMP:20260420T060414Z
LOCATION:Top Kino, https://www.topkino.at/
DESCRIPTION:Richard Linklaters mitreißende Hommage an ein ikonisches Werk der Filmgeschichte war ein Publikums- und Kritikerliebling der Internationalen Filmfestspiele in Cannes...
URL;VALUE=URI:https://www.topkino.at/
SUMMARY:Nouvelle Vague
END:VEVENT
END:VCALENDAR