BEGIN:VCALENDAR
VERSION:2.0
PRODID:-//ANWEB//NONSTOP KINO//EN
CALSCALE:GREGORIAN
BEGIN:VEVENT
DTSTART:20260422T154500Z
DTEND:20260422T180500Z
UID:69e5df0089c6e
DTSTAMP:20260420T060832Z
LOCATION:Top Kino, https://www.topkino.at/
DESCRIPTION:Richard Linklaters mitreißende Hommage an ein ikonisches Werk der Filmgeschichte war ein Publikums- und Kritikerliebling der Internationalen Filmfestspiele in Cannes...
URL;VALUE=URI:https://www.topkino.at/
SUMMARY:Nouvelle Vague
END:VEVENT
END:VCALENDAR