BEGIN:VCALENDAR
VERSION:2.0
PRODID:-//ANWEB//NONSTOP KINO//EN
CALSCALE:GREGORIAN
BEGIN:VEVENT
DTSTART:20260423T173000Z
DTEND:20260423T195000Z
UID:69e5dd1a2408d
DTSTAMP:20260420T060026Z
LOCATION:Top Kino, https://www.topkino.at/
DESCRIPTION:Richard Linklaters mitreißende Hommage an ein ikonisches Werk der Filmgeschichte war ein Publikums- und Kritikerliebling der Internationalen Filmfestspiele in Cannes...
URL;VALUE=URI:https://www.topkino.at/
SUMMARY:Nouvelle Vague
END:VEVENT
END:VCALENDAR