BEGIN:VCALENDAR
VERSION:2.0
PRODID:-//ANWEB//NONSTOP KINO//EN
CALSCALE:GREGORIAN
BEGIN:VEVENT
DTSTART:20260420T173000Z
DTEND:20260420T202000Z
UID:69e6de3ecb2c3
DTSTAMP:20260421T001734Z
LOCATION:Programmkino Wels, https://programmkinowels.at/
DESCRIPTION:Mit 20 wird Joachim unerwartet an der renommierten Schauspielschule in München angenommen und zieht in die Villa zu seinen Großeltern:...
URL;VALUE=URI:https://programmkinowels.at/
SUMMARY:Ach\, diese Lücke\, diese entsetzliche Lücke
END:VEVENT
END:VCALENDAR