BEGIN:VCALENDAR
VERSION:2.0
PRODID:-//ANWEB//NONSTOP KINO//EN
CALSCALE:GREGORIAN
BEGIN:VEVENT
DTSTART:20260426T161500Z
DTEND:20260426T181500Z
UID:69e8d895374b1
DTSTAMP:20260422T121757Z
LOCATION:Stadtkino Wien, https://stadtkinowien.at/
DESCRIPTION:
URL;VALUE=URI:https://stadtkinowien.at/
SUMMARY:Palimpsest: The Story of a Name
END:VEVENT
END:VCALENDAR