BEGIN:VCALENDAR
VERSION:2.0
PRODID:-//ANWEB//NONSTOP KINO//EN
CALSCALE:GREGORIAN
BEGIN:VEVENT
DTSTART:20260426T190000Z
DTEND:20260426T205000Z
UID:69e8d675bb628
DTSTAMP:20260422T120853Z
LOCATION:Stadtkino Wien, https://stadtkinowien.at/
DESCRIPTION:Thooya will als Schauspielerin reüssieren und hat also die dörfliche Heimat verlassen\, um in Mumbai ihr Glück zu versuchen. Ihren...
URL;VALUE=URI:https://stadtkinowien.at/
SUMMARY:Songs of Forgotten Trees
END:VEVENT
END:VCALENDAR