BEGIN:VCALENDAR
VERSION:2.0
PRODID:-//ANWEB//NONSTOP KINO//EN
CALSCALE:GREGORIAN
BEGIN:VEVENT
DTSTART:20260424T173000Z
DTEND:20260424T195000Z
UID:69e69a77217c6
DTSTAMP:20260420T192823Z
LOCATION:Metro Kinokulturhaus, https://www.filmarchiv.at/
DESCRIPTION:Der traumatisierte Polizist Fisher (Michael Elphick) hat sich nach Kairo zurückgezogen\, um mithilfe einer Hypnosetherapie seinen letzten Fall zu verarbeiten....
URL;VALUE=URI:https://www.filmarchiv.at/
SUMMARY:Forbrydelsens element (The Element of Crime)
END:VEVENT
END:VCALENDAR