BEGIN:VCALENDAR
VERSION:2.0
PRODID:-//ANWEB//NONSTOP KINO//EN
CALSCALE:GREGORIAN
BEGIN:VEVENT
DTSTART:20260430T160000Z
DTEND:20260430T175000Z
UID:69e69bac13ff0
DTSTAMP:20260420T193332Z
LOCATION:Filmmuseum, https://www.filmmuseum.at/
DESCRIPTION:Jarmans magische Meditation über die Sterblichkeit ist auch sein formal radikalstes Unterfangen: ein "Langfilm" abseits des Filmischen. Stattdessen ist die...
URL;VALUE=URI:https://www.filmmuseum.at/
SUMMARY:Blue (Kino-Version mit Soundtrack)
END:VEVENT
END:VCALENDAR