BEGIN:VCALENDAR
VERSION:2.0
PRODID:-//ANWEB//NONSTOP KINO//EN
CALSCALE:GREGORIAN
BEGIN:VEVENT
DTSTART:20260426T181500Z
DTEND:20260426T203500Z
UID:69ecd0e8456a0
DTSTAMP:20260425T123416Z
LOCATION:Filmstudio Villach, https://filmstudiovillach.at/
DESCRIPTION:In den Wirren des 30-jährigen Krieges erscheint ein fremder Soldat (ROSE) in einem abgeschiedenen\, protestantischen Dorf und behauptet\, der Erbe...
URL;VALUE=URI:https://filmstudiovillach.at/
SUMMARY:Rose
END:VEVENT
END:VCALENDAR