BEGIN:VCALENDAR
VERSION:2.0
PRODID:-//ANWEB//NONSTOP KINO//EN
CALSCALE:GREGORIAN
BEGIN:VEVENT
DTSTART:20260506T160000Z
DTEND:20260506T180000Z
UID:69ea5d4cac87d
DTSTAMP:20260423T155628Z
LOCATION:Filmmuseum, https://www.filmmuseum.at/
DESCRIPTION:Dichter\, Philosoph\, Ägyptologe\, Bandleader. Der Jazz-Visionär Sun Ra war all das – und noch viel mehr. Mit seiner sich ständig...
URL;VALUE=URI:https://www.filmmuseum.at/
SUMMARY:Sun Ra: Do the Impossible
END:VEVENT
END:VCALENDAR