BEGIN:VCALENDAR
VERSION:2.0
PRODID:-//ANWEB//NONSTOP KINO//EN
CALSCALE:GREGORIAN
BEGIN:VEVENT
DTSTART:20260523T183000Z
DTEND:20260523T210000Z
UID:69ea5c255fcae
DTSTAMP:20260423T155133Z
LOCATION:Filmmuseum, https://www.filmmuseum.at/
DESCRIPTION:Michael Roemers Vengeance is Mine\, der seine Uraufführung 1984 im US-amerikanischen Fernsehen erlebte und im gleichen Jahr auf dem London...
URL;VALUE=URI:https://www.filmmuseum.at/
SUMMARY:Vengeance is Mine
END:VEVENT
END:VCALENDAR