BEGIN:VCALENDAR
VERSION:2.0
PRODID:-//ANWEB//NONSTOP KINO//EN
CALSCALE:GREGORIAN
BEGIN:VEVENT
DTSTART:20260519T160000Z
DTEND:20260519T181000Z
UID:69ea5d6a63973
DTSTAMP:20260423T155658Z
LOCATION:Filmmuseum, https://www.filmmuseum.at/
DESCRIPTION:Nothing But a Man\, Roemers bis heute bekanntestes Werk und sein erster Spielfilm als Drehbuchautor und Regisseur\, war bei seiner...
URL;VALUE=URI:https://www.filmmuseum.at/
SUMMARY:Nothing But a Man
END:VEVENT
END:VCALENDAR