BEGIN:VCALENDAR
VERSION:2.0
PRODID:-//ANWEB//NONSTOP KINO//EN
CALSCALE:GREGORIAN
BEGIN:VEVENT
DTSTART:20260508T183000Z
DTEND:20260508T211000Z
UID:69ea5c7731b13
DTSTAMP:20260423T155255Z
LOCATION:Filmmuseum, https://www.filmmuseum.at/
DESCRIPTION:Inspiriert von der Ansprache eines Black-Muslim-Predigers\, die die Überlegenheit des Schwarzen Mannes verkündet\, versucht der junge Duke seine Machtposition in...
URL;VALUE=URI:https://www.filmmuseum.at/
SUMMARY:The Cool World
END:VEVENT
END:VCALENDAR