BEGIN:VCALENDAR
VERSION:2.0
PRODID:-//ANWEB//NONSTOP KINO//EN
CALSCALE:GREGORIAN
BEGIN:VEVENT
DTSTART:20260509T160000Z
DTEND:20260509T182000Z
UID:69ea5cd9a0626
DTSTAMP:20260423T155433Z
LOCATION:Filmmuseum, https://www.filmmuseum.at/
DESCRIPTION:Waiting for my man: Junkies warten im Apartment auf Heroinlieferung – im Beisein eines unerfahrenen Filmemachers\, der ihnen das Geld...
URL;VALUE=URI:https://www.filmmuseum.at/
SUMMARY:The Connection
END:VEVENT
END:VCALENDAR