BEGIN:VCALENDAR
VERSION:2.0
PRODID:-//ANWEB//NONSTOP KINO//EN
CALSCALE:GREGORIAN
BEGIN:VEVENT
DTSTART:20260510T160000Z
DTEND:20260510T180000Z
UID:69ea5d4cb182a
DTSTAMP:20260423T155628Z
LOCATION:Filmmuseum, https://www.filmmuseum.at/
DESCRIPTION:Ein Werk von nachdrücklicher Wucht und unnachgiebiger Haltung\, so kompromisslos\, dass es unter anderem in Frankreich für 20 Jahre verboten...
URL;VALUE=URI:https://www.filmmuseum.at/
SUMMARY:Paths of Glory
END:VEVENT
END:VCALENDAR