BEGIN:VCALENDAR
VERSION:2.0
PRODID:-//ANWEB//NONSTOP KINO//EN
CALSCALE:GREGORIAN
BEGIN:VEVENT
DTSTART:20260511T160000Z
DTEND:20260511T182000Z
UID:69ea63b268bd1
DTSTAMP:20260423T162346Z
LOCATION:Filmmuseum, https://www.filmmuseum.at/
DESCRIPTION:Aus der Perspektive der zehnjährigen Ida entfaltet sich eine Kindheit\, in der Fantasie zum Schutzraum wird. In einem ländlichen Umfeld...
URL;VALUE=URI:https://www.filmmuseum.at/
SUMMARY:Ida Who Sang So Badly Even the Dead Rose Up and Joined Her in Song
END:VEVENT
END:VCALENDAR