BEGIN:VCALENDAR
VERSION:2.0
PRODID:-//ANWEB//NONSTOP KINO//EN
CALSCALE:GREGORIAN
BEGIN:VEVENT
DTSTART:20260525T183000Z
DTEND:20260525T201000Z
UID:69ea5e7337b2c
DTSTAMP:20260423T160123Z
LOCATION:Filmmuseum, https://www.filmmuseum.at/
DESCRIPTION:Kubricks zweiter Spielfilm und sein erster Noir ist eine Dreiecksgeschichte um einen Boxer\, einen Gangster und die Frau zwischen den...
URL;VALUE=URI:https://www.filmmuseum.at/
SUMMARY:Killer's Kiss
END:VEVENT
END:VCALENDAR