BEGIN:VCALENDAR
VERSION:2.0
PRODID:-//ANWEB//NONSTOP KINO//EN
CALSCALE:GREGORIAN
BEGIN:VEVENT
DTSTART:20260529T160000Z
DTEND:20260529T180000Z
UID:69ea5dfd1a05c
DTSTAMP:20260423T155925Z
LOCATION:Filmmuseum, https://www.filmmuseum.at/
DESCRIPTION:The Killing ist ein existenzialistischer Film Noir\, in dem der perfekt geplante Überfall auf das Wettbüro einer Pferderennbahn an den...
URL;VALUE=URI:https://www.filmmuseum.at/
SUMMARY:The Killing (1956)
END:VEVENT
END:VCALENDAR