BEGIN:VCALENDAR
VERSION:2.0
PRODID:-//ANWEB//NONSTOP KINO//EN
CALSCALE:GREGORIAN
BEGIN:VEVENT
DTSTART:20260523T160000Z
DTEND:20260523T180000Z
UID:69ea60bd12641
DTSTAMP:20260423T161109Z
LOCATION:Filmmuseum, https://www.filmmuseum.at/
DESCRIPTION:Shirley Clarke war brillant\, mutig\, provokant und unglaublich talentiert. Wäre sie ein Mann gewesen\, hätten Filmhistoriker sie längst in die...
URL;VALUE=URI:https://www.filmmuseum.at/
SUMMARY:Early Clarke: Experimental & Dance Films
END:VEVENT
END:VCALENDAR