BEGIN:VCALENDAR
VERSION:2.0
PRODID:-//ANWEB//NONSTOP KINO//EN
CALSCALE:GREGORIAN
BEGIN:VEVENT
DTSTART:20260515T160000Z
DTEND:20260515T180000Z
UID:69ea5e3550856
DTSTAMP:20260423T160021Z
LOCATION:Filmmuseum, https://www.filmmuseum.at/
DESCRIPTION:Ornette: Made in America folgt in dokumentarischen Aufnahmen und avantgardistischen Musikvideo-Segmenten der Laufbahn des berühmten Jazzmusikers und Komponisten Ornette Coleman...
URL;VALUE=URI:https://www.filmmuseum.at/
SUMMARY:Ornette: Made in America
END:VEVENT
END:VCALENDAR