BEGIN:VCALENDAR
VERSION:2.0
PRODID:-//ANWEB//NONSTOP KINO//EN
CALSCALE:GREGORIAN
BEGIN:VEVENT
DTSTART:20260602T183000Z
DTEND:20260602T205000Z
UID:69ea5e7337b2c
DTSTAMP:20260423T160123Z
LOCATION:Filmmuseum, https://www.filmmuseum.at/
DESCRIPTION:Michael Roemer greift Themen aus seinem Dokumentarfilm Dying wieder auf\, diesmal in Form eines Spielfilms und die emotionale Dynamik umdrehend....
URL;VALUE=URI:https://www.filmmuseum.at/
SUMMARY:Pilgrim\, Farewell
END:VEVENT
END:VCALENDAR