BEGIN:VCALENDAR
VERSION:2.0
PRODID:-//ANWEB//NONSTOP KINO//EN
CALSCALE:GREGORIAN
BEGIN:VEVENT
DTSTART:20260527T160000Z
DTEND:20260527T180000Z
UID:69ea5f9deb893
DTSTAMP:20260423T160621Z
LOCATION:Filmmuseum, https://www.filmmuseum.at/
DESCRIPTION:Marva Nabilis in Vergessenheit geratener Spielfilm entstand 1977 und porträtiert eine junge Iranerin\, die nach dem Rhythmus des Alltags in...
URL;VALUE=URI:https://www.filmmuseum.at/
SUMMARY:Khake sar beh mohr (The Sealed Soil)
END:VEVENT
END:VCALENDAR