BEGIN:VCALENDAR
VERSION:2.0
PRODID:-//ANWEB//NONSTOP KINO//EN
CALSCALE:GREGORIAN
BEGIN:VEVENT
DTSTART:20260527T183000Z
DTEND:20260527T200000Z
UID:69ea623a6d680
DTSTAMP:20260423T161730Z
LOCATION:Filmmuseum, https://www.filmmuseum.at/
DESCRIPTION:Ein Film über die Sprache. H.C. Artmann wird von seiner Tochter Emily Artmann und seiner Nichte Katharina Copony\, die 2024...
URL;VALUE=URI:https://www.filmmuseum.at/
SUMMARY:der wackelatlas – sammeln und jagen mit H.C. Artmann
END:VEVENT
END:VCALENDAR