BEGIN:VCALENDAR
VERSION:2.0
PRODID:-//ANWEB//NONSTOP KINO//EN
CALSCALE:GREGORIAN
BEGIN:VEVENT
DTSTART:20260528T160000Z
DTEND:20260528T180000Z
UID:69ea5f5a295ff
DTSTAMP:20260423T160514Z
LOCATION:Filmmuseum, https://www.filmmuseum.at/
DESCRIPTION:Was ich am Kino liebe\, ist der Raum und die Zeit\, die es uns schenkt\, um genau hinsehen und hinhören...
URL;VALUE=URI:https://www.filmmuseum.at/
SUMMARY:Widerspiegelnde Lichter – Programm 1
END:VEVENT
END:VCALENDAR