BEGIN:VCALENDAR
VERSION:2.0
PRODID:-//ANWEB//NONSTOP KINO//EN
CALSCALE:GREGORIAN
BEGIN:VEVENT
DTSTART:20260531T183000Z
DTEND:20260531T203000Z
UID:69ea5cd9ea1fb
DTSTAMP:20260423T155433Z
LOCATION:Filmmuseum, https://www.filmmuseum.at/
DESCRIPTION:Alicia Hull leitet die Bücherei einer US-Kleinstadt in den 1950ern mit Leib und Seele. Eine tiefe Freundschaft pflegt sie zum...
URL;VALUE=URI:https://www.filmmuseum.at/
SUMMARY:Storm Center
END:VEVENT
END:VCALENDAR