BEGIN:VCALENDAR
VERSION:2.0
PRODID:-//ANWEB//NONSTOP KINO//EN
CALSCALE:GREGORIAN
BEGIN:VEVENT
DTSTART:20260622T160000Z
DTEND:20260622T180000Z
UID:69ea5d6a9745e
DTSTAMP:20260423T155658Z
LOCATION:Filmmuseum, https://www.filmmuseum.at/
DESCRIPTION:Alicia Hull leitet die Bücherei einer US-Kleinstadt in den 1950ern mit Leib und Seele. Eine tiefe Freundschaft pflegt sie zum...
URL;VALUE=URI:https://www.filmmuseum.at/
SUMMARY:Storm Center
END:VEVENT
END:VCALENDAR