BEGIN:VCALENDAR
VERSION:2.0
PRODID:-//ANWEB//NONSTOP KINO//EN
CALSCALE:GREGORIAN
BEGIN:VEVENT
DTSTART:20260505T163000Z
DTEND:20260505T183000Z
UID:69ea5eef7d4f2
DTSTAMP:20260423T160327Z
LOCATION:Metro Kinokulturhaus, https://www.filmarchiv.at/
DESCRIPTION:
URL;VALUE=URI:https://www.filmarchiv.at/
SUMMARY:Isha Ovedet (WORKING WOMAN)
END:VEVENT
END:VCALENDAR