BEGIN:VCALENDAR
VERSION:2.0
PRODID:-//ANWEB//NONSTOP KINO//EN
CALSCALE:GREGORIAN
BEGIN:VEVENT
DTSTART:20260426T113000Z
DTEND:20260426T135000Z
UID:69ecc2578fe57
DTSTAMP:20260425T113207Z
LOCATION:Filmzentrum im Rechbauerkino, 
DESCRIPTION:In den Wirren des 30-jährigen Krieges erscheint ein fremder Soldat (ROSE) in einem abgeschiedenen\, protestantischen Dorf und behauptet\, der Erbe...
URL;VALUE=URI:
SUMMARY:Rose
END:VEVENT
END:VCALENDAR