BEGIN:VCALENDAR
VERSION:2.0
PRODID:-//ANWEB//NONSTOP KINO//EN
CALSCALE:GREGORIAN
BEGIN:VEVENT
DTSTART:20260426T153000Z
DTEND:20260426T181000Z
UID:69e988a0653f2
DTSTAMP:20260423T004904Z
LOCATION:Filmzentrum im Rechbauerkino, 
DESCRIPTION:Zum 100. Geburtstag von Harper Lee (28.4.1926-19.2.2016)\, dem 110. Geburtstag von Gregory Peck (5.4.1916-12.6.2003) und in memoriam Robert Duvall (5.1.1931-15.2.2026)\,...
URL;VALUE=URI:
SUMMARY:Wer die Nachtigall stört
END:VEVENT
END:VCALENDAR