BEGIN:VCALENDAR
VERSION:2.0
PRODID:-//ANWEB//NONSTOP KINO//EN
CALSCALE:GREGORIAN
BEGIN:VEVENT
DTSTART:20260430T154500Z
DTEND:20260430T180500Z
UID:69ecc23c702c3
DTSTAMP:20260425T113140Z
LOCATION:Bellaria Kino, https://www.bellariakino.at/
DESCRIPTION:In den Wirren des 30-jährigen Krieges erscheint ein fremder Soldat (ROSE) in einem abgeschiedenen\, protestantischen Dorf und behauptet\, der Erbe...
URL;VALUE=URI:https://www.bellariakino.at/
SUMMARY:Rose
END:VEVENT
END:VCALENDAR