BEGIN:VCALENDAR
VERSION:2.0
PRODID:-//ANWEB//NONSTOP KINO//EN
CALSCALE:GREGORIAN
BEGIN:VEVENT
DTSTART:20260426T131500Z
DTEND:20260426T163500Z
UID:69e90fd27ceaa
DTSTAMP:20260422T161338Z
LOCATION:CineCenter, https://www.cinecenter.at/
DESCRIPTION:Als ihr erbitterter Erzfeind nach 16 Jahren wieder auftaucht\, schließt sich eine Gruppe ehemaliger Revolutionäre erneut zusammen\, um die Tochter...
URL;VALUE=URI:https://www.cinecenter.at/
SUMMARY:One Battle After Another
END:VEVENT
END:VCALENDAR