BEGIN:VCALENDAR
VERSION:2.0
PRODID:-//ANWEB//NONSTOP KINO//EN
CALSCALE:GREGORIAN
BEGIN:VEVENT
DTSTART:20260429T180000Z
DTEND:20260429T212000Z
UID:69e90f986ef53
DTSTAMP:20260422T161240Z
LOCATION:CineCenter, https://www.cinecenter.at/
DESCRIPTION:Als ihr erbitterter Erzfeind nach 16 Jahren wieder auftaucht\, schließt sich eine Gruppe ehemaliger Revolutionäre erneut zusammen\, um die Tochter...
URL;VALUE=URI:https://www.cinecenter.at/
SUMMARY:One Battle After Another
END:VEVENT
END:VCALENDAR