BEGIN:VCALENDAR
VERSION:2.0
PRODID:-//ANWEB//NONSTOP KINO//EN
CALSCALE:GREGORIAN
BEGIN:VEVENT
DTSTART:20260430T124500Z
DTEND:20260430T143500Z
UID:69ecc1df711a1
DTSTAMP:20260425T113007Z
LOCATION:Votiv Kino, https://www.votivkino.at/
DESCRIPTION:Aufwachsen in Teheran\, einer Hauptstadt des 21. Jahrhunderts… Von 2007 bis 2025\, in einer liebevollen Familie\, achtzehn Jahre im Leben...
URL;VALUE=URI:https://www.votivkino.at/
SUMMARY:All my Sisters
END:VEVENT
END:VCALENDAR