BEGIN:VCALENDAR
VERSION:2.0
PRODID:-//ANWEB//NONSTOP KINO//EN
CALSCALE:GREGORIAN
BEGIN:VEVENT
DTSTART:20260429T160000Z
DTEND:20260429T182000Z
UID:69ecc1dee76f0
DTSTAMP:20260425T113006Z
LOCATION:Votiv Kino, https://www.votivkino.at/
DESCRIPTION:In den Wirren des 30-jährigen Krieges erscheint ein fremder Soldat (ROSE) in einem abgeschiedenen\, protestantischen Dorf und behauptet\, der Erbe...
URL;VALUE=URI:https://www.votivkino.at/
SUMMARY:Rose
END:VEVENT
END:VCALENDAR