BEGIN:VCALENDAR
VERSION:2.0
PRODID:-//ANWEB//NONSTOP KINO//EN
CALSCALE:GREGORIAN
BEGIN:VEVENT
DTSTART:20260430T180000Z
DTEND:20260430T202000Z
UID:69ecc18be2691
DTSTAMP:20260425T112843Z
LOCATION:De France, https://www.votivkino.at/
DESCRIPTION:In den Wirren des 30-jährigen Krieges erscheint ein fremder Soldat (ROSE) in einem abgeschiedenen\, protestantischen Dorf und behauptet\, der Erbe...
URL;VALUE=URI:https://www.votivkino.at/
SUMMARY:Rose
END:VEVENT
END:VCALENDAR