BEGIN:VCALENDAR
VERSION:2.0
PRODID:-//ANWEB//NONSTOP KINO//EN
CALSCALE:GREGORIAN
BEGIN:VEVENT
DTSTART:20260427T184500Z
DTEND:20260427T203500Z
UID:69ecc25044cb4
DTSTAMP:20260425T113200Z
LOCATION:Moviemento, https://moviemento.at/
DESCRIPTION:Aufwachsen in Teheran\, einer Hauptstadt des 21. Jahrhunderts… Von 2007 bis 2025\, in einer liebevollen Familie\, achtzehn Jahre im Leben...
URL;VALUE=URI:https://moviemento.at/
SUMMARY:All my Sisters
END:VEVENT
END:VCALENDAR